BEGIN:VCALENDAR
VERSION:2.0
PRODID:-//Erica Sigurdson - ECPv6.15.17.1//NONSGML v1.0//EN
CALSCALE:GREGORIAN
METHOD:PUBLISH
X-WR-CALNAME:Erica Sigurdson
X-ORIGINAL-URL:https://www.ericasigurdson.com
X-WR-CALDESC:Events for Erica Sigurdson
REFRESH-INTERVAL;VALUE=DURATION:PT1H
X-Robots-Tag:noindex
X-PUBLISHED-TTL:PT1H
BEGIN:VTIMEZONE
TZID:UTC
BEGIN:STANDARD
TZOFFSETFROM:+0000
TZOFFSETTO:+0000
TZNAME:UTC
DTSTART:20210101T000000
END:STANDARD
END:VTIMEZONE
BEGIN:VEVENT
DTSTART;TZID=UTC:20220930T080000
DTEND;TZID=UTC:20221002T170000
DTSTAMP:20260421T135243
CREATED:20220904T054215Z
LAST-MODIFIED:20220904T054215Z
UID:2766-1664524800-1664730000@www.ericasigurdson.com
SUMMARY:SMITHERS BC - *Private event
DESCRIPTION:
URL:https://www.ericasigurdson.com/event/smithers-bc-private-event/
END:VEVENT
BEGIN:VEVENT
DTSTART;TZID=UTC:20221012T080000
DTEND;TZID=UTC:20221012T170000
DTSTAMP:20260421T135243
CREATED:20221012T182022Z
LAST-MODIFIED:20221012T182022Z
UID:2930-1665561600-1665594000@www.ericasigurdson.com
SUMMARY:
DESCRIPTION:The Snowed In Comedy Tour has turned into a Canadian success story\, celebrating its fourteenth year. It has now grown to become the biggest comedy tour in Canada. \nPlaying in 70 cities this year\, coast to coast. In a market still dominated by American acts\, with American TV credits\, a small Canadian comedy tour has managed to succeed. Like the Tragically Hip they have done it by touring and making more and more people laugh\, year after year. The tour has now performed in Australia\, The US\, France\, and Switzerland. The tour has received numerous standing ovations. Four international comedians come together to create one amazing show with each bringing a unique and hilarious take providing something for everyone. \nJust for Laughs winner Dan Quinn is joined by the Great Canadian Laugh Off winner\, Paul Myrehaug and 6 time Canadian Comedian of the year nominee\, Pete Zedlacher. We are proud to announce that Erica Sigurdson with over 70 appearances on the Debaters\, will be joining us. Don’t miss out on the comedy show called “Better than the Just for Laughs Tour” and “Delivers a Flurry of Laughs”.
URL:https://www.ericasigurdson.com/event/2930/
END:VEVENT
BEGIN:VEVENT
DTSTART;TZID=UTC:20221012T190000
DTEND;TZID=UTC:20221012T210000
DTSTAMP:20260421T135243
CREATED:20221007T013416Z
LAST-MODIFIED:20221012T185250Z
UID:2779-1665601200-1665608400@www.ericasigurdson.com
SUMMARY:INVESTORS GROUP - FREDERICTON\, NB
DESCRIPTION:
URL:https://www.ericasigurdson.com/event/investors-group-fredericton-nb/
ATTACH;FMTTYPE=image/jpeg:https://www.ericasigurdson.com/wp-content/uploads/2022/10/4-of-us-Whistler-scaled.jpeg
END:VEVENT
BEGIN:VEVENT
DTSTART;TZID=UTC:20221013T190000
DTEND;TZID=UTC:20221013T203000
DTSTAMP:20260421T135243
CREATED:20221007T013524Z
LAST-MODIFIED:20221007T013524Z
UID:2781-1665687600-1665693000@www.ericasigurdson.com
SUMMARY:INVESTORS GROUP - MONCTON\, NB
DESCRIPTION:
URL:https://www.ericasigurdson.com/event/investors-group-moncton-nb/
END:VEVENT
BEGIN:VEVENT
DTSTART;TZID=UTC:20221014T190000
DTEND;TZID=UTC:20221014T203000
DTSTAMP:20260421T135243
CREATED:20221007T013615Z
LAST-MODIFIED:20221007T013615Z
UID:2783-1665774000-1665779400@www.ericasigurdson.com
SUMMARY:INVESTORS GROUP - CHARLOTTETOWN\, PEI
DESCRIPTION:
URL:https://www.ericasigurdson.com/event/investors-group-charlottetown-pei/
END:VEVENT
BEGIN:VEVENT
DTSTART;TZID=UTC:20221015T190000
DTEND;TZID=UTC:20221015T203000
DTSTAMP:20260421T135243
CREATED:20221007T013711Z
LAST-MODIFIED:20221007T013711Z
UID:2785-1665860400-1665865800@www.ericasigurdson.com
SUMMARY:INVESTORS GROUP - GLACE BAY\, NS
DESCRIPTION:
URL:https://www.ericasigurdson.com/event/investors-group-glace-bay-ns/
END:VEVENT
BEGIN:VEVENT
DTSTART;TZID=UTC:20221018T193000
DTEND;TZID=UTC:20221018T213000
DTSTAMP:20260421T135243
CREATED:20221011T173108Z
LAST-MODIFIED:20221011T173108Z
UID:2865-1666121400-1666128600@www.ericasigurdson.com
SUMMARY:Snowed In Comedy Tour  - Nanaimo\, BC
DESCRIPTION:The Snowed In Comedy Tour has turned into a Canadian success story\, celebrating its fourteenth year. It has now grown to become the biggest comedy tour in Canada. \nPlaying in 70 cities this year\, coast to coast. In a market still dominated by American acts\, with American TV credits\, a small Canadian comedy tour has managed to succeed. Like the Tragically Hip they have done it by touring and making more and more people laugh\, year after year. The tour has now performed in Australia\, The US\, France\, and Switzerland. The tour has received numerous standing ovations. Four international comedians come together to create one amazing show with each bringing a unique and hilarious take providing something for everyone. \nJust for Laughs winner Dan Quinn is joined by the Great Canadian Laugh Off winner\, Paul Myrehaug and 6 time Canadian Comedian of the year nominee\, Pete Zedlacher. We are proud to announce that Erica Sigurdson with over 70 appearances on the Debaters\, will be joining us. Don’t miss out on the comedy show called “Better than the Just for Laughs Tour” and “Delivers a Flurry of Laughs”.
URL:https://www.ericasigurdson.com/event/snowed-in-comedy-tour-nanaimo-bc/
LOCATION:The Port Theatre\, 125 Front St Nanaimo BC V9R 6Z4
ATTACH;FMTTYPE=image/png:https://www.ericasigurdson.com/wp-content/uploads/2022/02/SNOWEDINCOMEDYTOUR-1.png
END:VEVENT
BEGIN:VEVENT
DTSTART;TZID=UTC:20221021T190000
DTEND;TZID=UTC:20221021T210000
DTSTAMP:20260421T135243
CREATED:20221007T013911Z
LAST-MODIFIED:20221007T013911Z
UID:2787-1666378800-1666386000@www.ericasigurdson.com
SUMMARY:INVESTORS GROUP - HALIFAX\, NS
DESCRIPTION:
URL:https://www.ericasigurdson.com/event/investors-group-halifax-ns/
END:VEVENT
BEGIN:VEVENT
DTSTART;TZID=UTC:20221022T190000
DTEND;TZID=UTC:20221022T210000
DTSTAMP:20260421T135243
CREATED:20221007T013953Z
LAST-MODIFIED:20221007T013953Z
UID:2789-1666465200-1666472400@www.ericasigurdson.com
SUMMARY:INVESTORS GROUP - HALIFAX\, NS
DESCRIPTION:
URL:https://www.ericasigurdson.com/event/investors-group-halifax-ns-2/
END:VEVENT
BEGIN:VEVENT
DTSTART;TZID=UTC:20221024T190000
DTEND;TZID=UTC:20221024T203000
DTSTAMP:20260421T135243
CREATED:20221007T014049Z
LAST-MODIFIED:20221007T014127Z
UID:2791-1666638000-1666643400@www.ericasigurdson.com
SUMMARY:INVESTORS GROUP - ST JOHN'S NFLD
DESCRIPTION:
URL:https://www.ericasigurdson.com/event/investors-group-st-johns-nfld/
END:VEVENT
BEGIN:VEVENT
DTSTART;TZID=UTC:20221025T190000
DTEND;TZID=UTC:20221025T203000
DTSTAMP:20260421T135243
CREATED:20221007T014334Z
LAST-MODIFIED:20221007T014748Z
UID:2793-1666724400-1666729800@www.ericasigurdson.com
SUMMARY:INVESTORS GROUP - CORNER BROOK\,NL
DESCRIPTION:
URL:https://www.ericasigurdson.com/event/investors-group-corner-brooknl/
END:VEVENT
BEGIN:VEVENT
DTSTART;TZID=UTC:20221027T190000
DTEND;TZID=UTC:20221027T203000
DTSTAMP:20260421T135243
CREATED:20221007T014437Z
LAST-MODIFIED:20221007T014437Z
UID:2795-1666897200-1666902600@www.ericasigurdson.com
SUMMARY:INVESTORS GROUP  - SAINT JOHN\, NB
DESCRIPTION:
URL:https://www.ericasigurdson.com/event/investors-group-saint-john-nb/
END:VEVENT
END:VCALENDAR