BEGIN:VCALENDAR
VERSION:2.0
PRODID:-//Erica Sigurdson - ECPv6.15.17.1//NONSGML v1.0//EN
CALSCALE:GREGORIAN
METHOD:PUBLISH
X-WR-CALNAME:Erica Sigurdson
X-ORIGINAL-URL:https://www.ericasigurdson.com
X-WR-CALDESC:Events for Erica Sigurdson
REFRESH-INTERVAL;VALUE=DURATION:PT1H
X-Robots-Tag:noindex
X-PUBLISHED-TTL:PT1H
BEGIN:VTIMEZONE
TZID:UTC
BEGIN:STANDARD
TZOFFSETFROM:+0000
TZOFFSETTO:+0000
TZNAME:UTC
DTSTART:20230101T000000
END:STANDARD
END:VTIMEZONE
BEGIN:VEVENT
DTSTART;TZID=UTC:20240906T200000
DTEND;TZID=UTC:20240906T223000
DTSTAMP:20260421T111239
CREATED:20240409T164043Z
LAST-MODIFIED:20240409T164043Z
UID:3024-1725652800-1725661800@www.ericasigurdson.com
SUMMARY:Calgary Alberta -
DESCRIPTION:
URL:https://www.ericasigurdson.com/event/calgary-alberta/
END:VEVENT
END:VCALENDAR