BEGIN:VCALENDAR
VERSION:2.0
PRODID:-//Erica Sigurdson - ECPv6.15.17.1//NONSGML v1.0//EN
CALSCALE:GREGORIAN
METHOD:PUBLISH
X-WR-CALNAME:Erica Sigurdson
X-ORIGINAL-URL:https://www.ericasigurdson.com
X-WR-CALDESC:Events for Erica Sigurdson
REFRESH-INTERVAL;VALUE=DURATION:PT1H
X-Robots-Tag:noindex
X-PUBLISHED-TTL:PT1H
BEGIN:VTIMEZONE
TZID:UTC
BEGIN:STANDARD
TZOFFSETFROM:+0000
TZOFFSETTO:+0000
TZNAME:UTC
DTSTART:20220101T000000
END:STANDARD
END:VTIMEZONE
BEGIN:VEVENT
DTSTART;TZID=UTC:20230104T193000
DTEND;TZID=UTC:20230104T213000
DTSTAMP:20260421T111125
CREATED:20221007T023344Z
LAST-MODIFIED:20221007T023400Z
UID:2812-1672860600-1672867800@www.ericasigurdson.com
SUMMARY:SNOWED IN COMEDY TOUR - GOLDEN\, BC
DESCRIPTION:5 Star Comedy\n\n\n\n\n\n\n\n“I wouldn’t hesitate to recommend such a cohesive and entertaining show to anyone”— VANCOUVER WEEKLY\n\n\n\n\n\n“Better than the Just For Laughs Tour”— KELOWNA DAILY COURIER\n\n\n\n\n\n“Delivered a Flurry of Laughs”— SMITHERS INTERIOR NEWS\n\n\n\n\n\n“The humour was relatable to all audiences. Except Children\, Seriously don’t bring Children.”— VANCOUVER WEEKLY
URL:https://www.ericasigurdson.com/event/snowed-in-comedy-tour-golden-bc/
LOCATION:ROCKWATER GRILL AND BAR
END:VEVENT
END:VCALENDAR