BEGIN:VCALENDAR
VERSION:2.0
PRODID:-//Erica Sigurdson - ECPv6.15.17.1//NONSGML v1.0//EN
CALSCALE:GREGORIAN
METHOD:PUBLISH
X-ORIGINAL-URL:https://www.ericasigurdson.com
X-WR-CALDESC:Events for Erica Sigurdson
REFRESH-INTERVAL;VALUE=DURATION:PT1H
X-Robots-Tag:noindex
X-PUBLISHED-TTL:PT1H
BEGIN:VTIMEZONE
TZID:UTC
BEGIN:STANDARD
TZOFFSETFROM:+0000
TZOFFSETTO:+0000
TZNAME:UTC
DTSTART:20210101T000000
END:STANDARD
END:VTIMEZONE
BEGIN:VEVENT
DTSTART;TZID=UTC:20221116T193000
DTEND;TZID=UTC:20221116T210000
DTSTAMP:20260421T135332
CREATED:20221011T171902Z
LAST-MODIFIED:20221011T171937Z
UID:2858-1668627000-1668632400@www.ericasigurdson.com
SUMMARY:Snowed In Comedy Tour  -
DESCRIPTION:The Snowed In Comedy Tour has turned into a Canadian success story\, celebrating its fourteenth year. It has now grown to become the biggest comedy tour in Canada. Playing in 70 cities this year\, coast to coast. In a market still dominated by American acts\, with American TV credits\, a small Canadian comedy tour has managed to succeed. Like the Tragically Hip they have done it by touring and making more and more people laugh\, year after year. The tour has now performed in Australia\, The US\, France\, and Switzerland. The tour has received numerous standing ovations. \nFour international comedians come together to create one amazing show with each bringing a unique and hilarious take providing something for everyone. Just for Laughs winner Dan Quinn is joined by the Great Canadian Laugh Off winner\, Paul Myrehaug and 6 time Canadian Comedian of the year nominee\, Pete Zedlacher. We are proud to announce that Erica Sigurdson with over 70 appearances on the Debaters\, will be joining us. Don’t miss out on the comedy show called “Better than the Just for Laughs Tour” and “Delivers a Flurry of Laughs”.
URL:https://www.ericasigurdson.com/event/snowed-in-comedy-tour/
LOCATION:Capital Theatre – BC\, 4904 Argyle Street\, Port Alberni\, British Columbia\, V9Y 1V7
ATTACH;FMTTYPE=image/png:https://www.ericasigurdson.com/wp-content/uploads/2022/02/SNOWEDINCOMEDYTOUR.png
END:VEVENT
END:VCALENDAR