BEGIN:VCALENDAR
VERSION:2.0
PRODID:-//Erica Sigurdson - ECPv6.15.17.1//NONSGML v1.0//EN
CALSCALE:GREGORIAN
METHOD:PUBLISH
X-WR-CALNAME:Erica Sigurdson
X-ORIGINAL-URL:https://www.ericasigurdson.com
X-WR-CALDESC:Events for Erica Sigurdson
REFRESH-INTERVAL;VALUE=DURATION:PT1H
X-Robots-Tag:noindex
X-PUBLISHED-TTL:PT1H
BEGIN:VTIMEZONE
TZID:UTC
BEGIN:STANDARD
TZOFFSETFROM:+0000
TZOFFSETTO:+0000
TZNAME:UTC
DTSTART:20210101T000000
END:STANDARD
END:VTIMEZONE
BEGIN:VEVENT
DTSTART;TZID=UTC:20221025T190000
DTEND;TZID=UTC:20221025T203000
DTSTAMP:20260421T152618
CREATED:20221007T014334Z
LAST-MODIFIED:20221007T014748Z
UID:2793-1666724400-1666729800@www.ericasigurdson.com
SUMMARY:INVESTORS GROUP - CORNER BROOK\,NL
DESCRIPTION:
URL:https://www.ericasigurdson.com/event/investors-group-corner-brooknl/
END:VEVENT
END:VCALENDAR