BEGIN:VCALENDAR
VERSION:2.0
PRODID:-//Erica Sigurdson - ECPv6.15.17.1//NONSGML v1.0//EN
CALSCALE:GREGORIAN
METHOD:PUBLISH
X-WR-CALNAME:Erica Sigurdson
X-ORIGINAL-URL:https://www.ericasigurdson.com
X-WR-CALDESC:Events for Erica Sigurdson
REFRESH-INTERVAL;VALUE=DURATION:PT1H
X-Robots-Tag:noindex
X-PUBLISHED-TTL:PT1H
BEGIN:VTIMEZONE
TZID:UTC
BEGIN:STANDARD
TZOFFSETFROM:+0000
TZOFFSETTO:+0000
TZNAME:UTC
DTSTART:20210101T000000
END:STANDARD
END:VTIMEZONE
BEGIN:VEVENT
DTSTART;TZID=UTC:20220911T170000
DTEND;TZID=UTC:20220911T193000
DTSTAMP:20260421T192645
CREATED:20220904T053952Z
LAST-MODIFIED:20220904T053952Z
UID:2764-1662915600-1662924600@www.ericasigurdson.com
SUMMARY:Vancouver Club - *Private Event
DESCRIPTION:
URL:https://www.ericasigurdson.com/event/vancouver-club-private-event/
END:VEVENT
END:VCALENDAR