BEGIN:VCALENDAR
VERSION:2.0
PRODID:-//Erica Sigurdson - ECPv6.15.17.1//NONSGML v1.0//EN
CALSCALE:GREGORIAN
METHOD:PUBLISH
X-ORIGINAL-URL:https://www.ericasigurdson.com
X-WR-CALDESC:Events for Erica Sigurdson
REFRESH-INTERVAL;VALUE=DURATION:PT1H
X-Robots-Tag:noindex
X-PUBLISHED-TTL:PT1H
BEGIN:VTIMEZONE
TZID:UTC
BEGIN:STANDARD
TZOFFSETFROM:+0000
TZOFFSETTO:+0000
TZNAME:UTC
DTSTART:20210101T000000
END:STANDARD
END:VTIMEZONE
BEGIN:VEVENT
DTSTART;TZID=UTC:20220909T190000
DTEND;TZID=UTC:20220909T203000
DTSTAMP:20260421T163747
CREATED:20220904T053711Z
LAST-MODIFIED:20220904T053711Z
UID:2759-1662750000-1662755400@www.ericasigurdson.com
SUMMARY:Five Corners Buskers and Comedy Festival - (Headliner)
DESCRIPTION:
URL:https://www.ericasigurdson.com/event/five-corners-buskers-and-comedy-festival-headliner/
LOCATION:Landmark Gallery\, Landmark Pop-UpTown Gallery 15140 North Bluff Road White Rock\, BC V4B 3X8
END:VEVENT
BEGIN:VEVENT
DTSTART;TZID=UTC:20220909T210000
DTEND;TZID=UTC:20220909T223000
DTSTAMP:20260421T163747
CREATED:20220904T053909Z
LAST-MODIFIED:20220904T053909Z
UID:2762-1662757200-1662762600@www.ericasigurdson.com
SUMMARY:5 Corners Buskers & Comedy Festival - (feature act)
DESCRIPTION:
URL:https://www.ericasigurdson.com/event/5-corners-buskers-comedy-festival-feature-act/
LOCATION:Landmark Gallery\, Landmark Pop-UpTown Gallery 15140 North Bluff Road White Rock\, BC V4B 3X8
END:VEVENT
END:VCALENDAR