BEGIN:VCALENDAR
VERSION:2.0
PRODID:-//Erica Sigurdson - ECPv6.15.17.1//NONSGML v1.0//EN
CALSCALE:GREGORIAN
METHOD:PUBLISH
X-ORIGINAL-URL:https://www.ericasigurdson.com
X-WR-CALDESC:Events for Erica Sigurdson
REFRESH-INTERVAL;VALUE=DURATION:PT1H
X-Robots-Tag:noindex
X-PUBLISHED-TTL:PT1H
BEGIN:VTIMEZONE
TZID:UTC
BEGIN:STANDARD
TZOFFSETFROM:+0000
TZOFFSETTO:+0000
TZNAME:UTC
DTSTART:20210101T000000
END:STANDARD
END:VTIMEZONE
BEGIN:VEVENT
DTSTART;TZID=UTC:20220906T210000
DTEND;TZID=UTC:20220906T230000
DTSTAMP:20260421T164240
CREATED:20220904T052921Z
LAST-MODIFIED:20220904T052921Z
UID:2756-1662498000-1662505200@www.ericasigurdson.com
SUMMARY:FULL PINT COMEDY - KITSILANO
DESCRIPTION:We bring you top touring stand-up comedians you’ve seen on Conan\, Jimmy Kimmel Live\, Just For Laughs\, CBC\, The Comedy Network\, and more. Before the show was based at Castaway\, you may have seen Full Pint Comedy at our original home of Granville Island Brewing or the first show we ran: Kings Head Comedy. \nJoin us Tuesdays at Castaway (3293 W. 4th Avenue\, at the corner of Blenheim Street) to enjoy the show alongside great food and drink specials.
URL:https://www.ericasigurdson.com/event/full-pint-comedy-kitsilano/
LOCATION:CASTAWAY PUB\, 3293 W 4th Ave\, Vancouver\, BC V6K 4H9\, Canada
END:VEVENT
END:VCALENDAR